BEGIN:VCALENDAR
VERSION:2.0
PRODID:-//QUERgesund - ECPv5.3.2.1//NONSGML v1.0//EN
CALSCALE:GREGORIAN
METHOD:PUBLISH
X-WR-CALNAME:QUERgesund
X-ORIGINAL-URL:https://quergesund-bochum.de
X-WR-CALDESC:Veranstaltungen für QUERgesund
BEGIN:VTIMEZONE
TZID:UTC
BEGIN:STANDARD
TZOFFSETFROM:+0000
TZOFFSETTO:+0000
TZNAME:UTC
DTSTART:20200101T000000
END:STANDARD
END:VTIMEZONE
BEGIN:VEVENT
DTSTART;TZID=UTC:20201030T163000
DTEND;TZID=UTC:20201030T180000
DTSTAMP:20260421T083718
CREATED:20201015T182252Z
LAST-MODIFIED:20201023T101653Z
UID:416-1604075400-1604080800@quergesund-bochum.de
SUMMARY:Gesundheitsforum zum Thema 'Bewegung'
DESCRIPTION:Kommen Sie zu uns\, um sich mit anderen Bewohner*innen und Akteur*innen rund um aktuelle Themen bezüglich Wohlbefinden und Prävention auszutauschen. \nAn diesem Termin möchten wir mit uns mit Ihnen zu dem Thema ‚Bewegung: Was tut mir und meinem Körper gut?‘ austauschen. Die Veranstaltung wird in Kooperation mit der Selbsthilfe-Kontaktstelle Bochum durchgeführt und von dieser finanziert. \nWir starten mit einem ca. einstündigem Bewegungs- und Entspannungsangebot angeleitet von der Trainerin Tammy Allgäuer. Danach möchten wir uns darüber austauschen wie leicht oder schwer es uns fällt regelmäßig Bewegungs- und Entspannungseinheiten in unseren Alltag einzubauen und was wir uns diesbezüglich für die Zukunft wünschen. \nEine Anmeldung zu dieser Veranstaltung ist unbedingt erforderlich. \nUpdate: Alle Plätze sind leider schon belegt!
URL:https://quergesund-bochum.de/termin/gesundheitsforum/
LOCATION:Stadtteiltreff (IFAK e.V.)\, Hustadtring 55\, Bochum\, NRW\, 44801\, Deutschland
CATEGORIES:Aktivitäten,Termine
ATTACH;FMTTYPE=image/jpeg:https://quergesund-bochum.de/wp-content/uploads/2020/07/Gesundheitsforum.jpg
END:VEVENT
END:VCALENDAR